BEGIN:VCALENDAR
VERSION:2.0
PRODID:-//Dorothy Clive Garden - ECPv6.15.17//NONSGML v1.0//EN
CALSCALE:GREGORIAN
METHOD:PUBLISH
X-WR-CALNAME:Dorothy Clive Garden
X-ORIGINAL-URL:https://dorothyclivegarden.co.uk
X-WR-CALDESC:Events for Dorothy Clive Garden
REFRESH-INTERVAL;VALUE=DURATION:PT1H
X-Robots-Tag:noindex
X-PUBLISHED-TTL:PT1H
BEGIN:VTIMEZONE
TZID:Europe/London
BEGIN:DAYLIGHT
TZOFFSETFROM:+0000
TZOFFSETTO:+0100
TZNAME:BST
DTSTART:20240331T010000
END:DAYLIGHT
BEGIN:STANDARD
TZOFFSETFROM:+0100
TZOFFSETTO:+0000
TZNAME:GMT
DTSTART:20241027T010000
END:STANDARD
BEGIN:DAYLIGHT
TZOFFSETFROM:+0000
TZOFFSETTO:+0100
TZNAME:BST
DTSTART:20250330T010000
END:DAYLIGHT
BEGIN:STANDARD
TZOFFSETFROM:+0100
TZOFFSETTO:+0000
TZNAME:GMT
DTSTART:20251026T010000
END:STANDARD
BEGIN:DAYLIGHT
TZOFFSETFROM:+0000
TZOFFSETTO:+0100
TZNAME:BST
DTSTART:20260329T010000
END:DAYLIGHT
BEGIN:STANDARD
TZOFFSETFROM:+0100
TZOFFSETTO:+0000
TZNAME:GMT
DTSTART:20261025T010000
END:STANDARD
END:VTIMEZONE
BEGIN:VEVENT
DTSTART;TZID=Europe/London:20250726T100000
DTEND;TZID=Europe/London:20250831T170000
DTSTAMP:20260421T143602
CREATED:20250724T115547Z
LAST-MODIFIED:20250724T120841Z
UID:2336-1753524000-1756659600@dorothyclivegarden.co.uk
SUMMARY:Gnome Trail
DESCRIPTION:26th July – 31st August \nGet ready for a magical adventure this summer on our Gnome Trail\, perfect for curious children and their grown-ups! \nExplore the beautiful grounds of The Dorothy Clive Garden as you hunt for hidden gnomes along a specially recommended route. Simply pick up a free trail map from the gift room to begin your quest. As you wander through the garden\, keep track of how many gnomes you spot. \nOnce you’ve completed the trail\, head back to the gift room and let our friendly team know how many gnomes you have found—you’ll receive a small prize for your efforts! \n✨ Free to take part – just pay garden admission: \nAdults: £13.00\nChildren (5–17): £2.00\nChildren (under 4): Free\nMembers: Free\nNo booking needed – just come along and enjoy the fun between 26th July and 31st August.
URL:https://dorothyclivegarden.co.uk/event/gnome-trail/
LOCATION:Shropshire
ATTACH;FMTTYPE=image/png:https://dorothyclivegarden.co.uk/wp-content/uploads/2025/07/Screenshot-2025-07-24-at-12.58.07.png
END:VEVENT
BEGIN:VEVENT
DTSTART;TZID=Europe/London:20250810T110000
DTEND;TZID=Europe/London:20250810T130000
DTSTAMP:20260421T143602
CREATED:20250206T101650Z
LAST-MODIFIED:20250801T093413Z
UID:1310-1754823600-1754830800@dorothyclivegarden.co.uk
SUMMARY:Talk on Apples with Andrew Howard
DESCRIPTION:Andrew Howard Founder of the Heritage Fruit Tree Company will be delivering a talk on Apples.  For more information about Andrew and the Heritage Fruit Tree Company click on the following link https://www.heritagefruittrees.com/about \nThe talk will take place in the Bryan Mayer Pavilion at 11.00am on Sunday 10th August 2025. \nPrice \nMembers £5 per person\nNon-members £18 (includes entry to the Garden) \nPlaces available – 20 \nTo book – click the link below:\nwww.ticketsource.co.uk/whats-on?q=dorothy%20clive%20garden%20apples
URL:https://dorothyclivegarden.co.uk/event/talk-on-apples-with-andrew-howard/
LOCATION:Shropshire
CATEGORIES:talk
ATTACH;FMTTYPE=image/jpeg:https://dorothyclivegarden.co.uk/wp-content/uploads/2025/02/25.jpg
END:VEVENT
BEGIN:VEVENT
DTSTART;TZID=Europe/London:20250810T140000
DTEND;TZID=Europe/London:20250810T150000
DTSTAMP:20260421T143602
CREATED:20250618T101524Z
LAST-MODIFIED:20250718T100022Z
UID:2194-1754834400-1754838000@dorothyclivegarden.co.uk
SUMMARY:Tree Walk with Dr Peter Thomas FLS
DESCRIPTION:Join Dr Peter Thomas for a guided tour of the trees at the Dorothy Clive Garden. Peter is a Reader Emeritus in Plant Ecology at Keele University and has written a number of publications. \nThe guided tour will begin at 2.00pm \nCost: £5 per person \nMax 25 \nTickets can be booked via the following link https://www.ticketsource.co.uk/whats-on?q=TREE%20WALK%20DOROTHY%20CLIVE%20GARDEN%20DR%20
URL:https://dorothyclivegarden.co.uk/event/tree-walk-with-dr-peter-thomas-fls/
LOCATION:Shropshire
CATEGORIES:talk
ATTACH;FMTTYPE=image/jpeg:https://dorothyclivegarden.co.uk/wp-content/uploads/2025/06/thomas-peter.jpg
END:VEVENT
END:VCALENDAR