BEGIN:VCALENDAR
VERSION:2.0
PRODID:-//Dorothy Clive Garden - ECPv6.15.17//NONSGML v1.0//EN
CALSCALE:GREGORIAN
METHOD:PUBLISH
X-WR-CALNAME:Dorothy Clive Garden
X-ORIGINAL-URL:https://dorothyclivegarden.co.uk
X-WR-CALDESC:Events for Dorothy Clive Garden
REFRESH-INTERVAL;VALUE=DURATION:PT1H
X-Robots-Tag:noindex
X-PUBLISHED-TTL:PT1H
BEGIN:VTIMEZONE
TZID:Europe/London
BEGIN:DAYLIGHT
TZOFFSETFROM:+0000
TZOFFSETTO:+0100
TZNAME:BST
DTSTART:20240331T010000
END:DAYLIGHT
BEGIN:STANDARD
TZOFFSETFROM:+0100
TZOFFSETTO:+0000
TZNAME:GMT
DTSTART:20241027T010000
END:STANDARD
BEGIN:DAYLIGHT
TZOFFSETFROM:+0000
TZOFFSETTO:+0100
TZNAME:BST
DTSTART:20250330T010000
END:DAYLIGHT
BEGIN:STANDARD
TZOFFSETFROM:+0100
TZOFFSETTO:+0000
TZNAME:GMT
DTSTART:20251026T010000
END:STANDARD
BEGIN:DAYLIGHT
TZOFFSETFROM:+0000
TZOFFSETTO:+0100
TZNAME:BST
DTSTART:20260329T010000
END:DAYLIGHT
BEGIN:STANDARD
TZOFFSETFROM:+0100
TZOFFSETTO:+0000
TZNAME:GMT
DTSTART:20261025T010000
END:STANDARD
END:VTIMEZONE
BEGIN:VEVENT
DTSTART;TZID=Europe/London:20250726T100000
DTEND;TZID=Europe/London:20250831T170000
DTSTAMP:20260421T143620
CREATED:20250724T115547Z
LAST-MODIFIED:20250724T120841Z
UID:2336-1753524000-1756659600@dorothyclivegarden.co.uk
SUMMARY:Gnome Trail
DESCRIPTION:26th July – 31st August \nGet ready for a magical adventure this summer on our Gnome Trail\, perfect for curious children and their grown-ups! \nExplore the beautiful grounds of The Dorothy Clive Garden as you hunt for hidden gnomes along a specially recommended route. Simply pick up a free trail map from the gift room to begin your quest. As you wander through the garden\, keep track of how many gnomes you spot. \nOnce you’ve completed the trail\, head back to the gift room and let our friendly team know how many gnomes you have found—you’ll receive a small prize for your efforts! \n✨ Free to take part – just pay garden admission: \nAdults: £13.00\nChildren (5–17): £2.00\nChildren (under 4): Free\nMembers: Free\nNo booking needed – just come along and enjoy the fun between 26th July and 31st August.
URL:https://dorothyclivegarden.co.uk/event/gnome-trail/
LOCATION:Shropshire
ATTACH;FMTTYPE=image/png:https://dorothyclivegarden.co.uk/wp-content/uploads/2025/07/Screenshot-2025-07-24-at-12.58.07.png
END:VEVENT
BEGIN:VEVENT
DTSTART;TZID=Europe/London:20250822T100000
DTEND;TZID=Europe/London:20250822T160000
DTSTAMP:20260421T143620
CREATED:20250812T090159Z
LAST-MODIFIED:20250821T183944Z
UID:2362-1755856800-1755878400@dorothyclivegarden.co.uk
SUMMARY:Alpaca Visit!
DESCRIPTION:Apology Notice – Alpaca Visit Cancellation (22.08.2025) \nWe regret to inform all visitors planning to join us at the Dorothy Clive Garden tomorrow\, Friday 22nd August 2025\, that the alpaca visit has unfortunately been cancelled. \nThis is due to unexpected transportation issues faced by our suppliers\, which are beyond our control. We understand that many of you were looking forward to this special experience\, and we sincerely apologise for any disappointment this may cause. \nThe garden will still be open as usual\, and we warmly welcome you to enjoy the seasonal displays\, woodland walks\, and tearoom during your visit. \nWe truly value your support and understanding\, and we are working to host the alpacas again at a future date. \nThank you for your patience\, \nThe Dorothy Clive Garden Team \n\n\n\n\n\nEnjoy a relaxed and memorable summer’s day in our beautiful garden setting\, with some very special guests. \nThis summer\, we’re welcoming gentle\, friendly animals who are sure to bring a smile to visitors of all ages. It’s a great opportunity to spend time outdoors\, connect with nature\, and meet these wonderful creatures up close. \nStroll through the gardens at your own pace\, take in the seasonal colours\, and enjoy moments of calm in the fresh air. Families will love the chance for children to interact and learn\, while adults can unwind and appreciate the surroundings. \nWhether you’re looking for a peaceful escape\, a family day out\, or simply something a little different this summer\, this event offers a warm welcome for everyone. There’s no extra charge to see them – simply pay our usual admission and enjoy everything the garden has to offer\, including this special visit \n Location: The Dorothy Clive Garden Time: Alpacas will be in the garden from 10am – 4 pm Cost: Included with standard garden admissionAdult – £13.00Children aged 5-17 – £2.00Under 4’s – FREEMembers FREE
URL:https://dorothyclivegarden.co.uk/event/alpaca-visit/
LOCATION:Shropshire
ATTACH;FMTTYPE=image/jpeg:https://dorothyclivegarden.co.uk/wp-content/uploads/2025/08/IMG_4723.jpeg
END:VEVENT
END:VCALENDAR