BEGIN:VCALENDAR
VERSION:2.0
PRODID:-//Dorothy Clive Garden - ECPv6.15.17//NONSGML v1.0//EN
CALSCALE:GREGORIAN
METHOD:PUBLISH
X-ORIGINAL-URL:https://dorothyclivegarden.co.uk
X-WR-CALDESC:Events for Dorothy Clive Garden
REFRESH-INTERVAL;VALUE=DURATION:PT1H
X-Robots-Tag:noindex
X-PUBLISHED-TTL:PT1H
BEGIN:VTIMEZONE
TZID:Europe/London
BEGIN:DAYLIGHT
TZOFFSETFROM:+0000
TZOFFSETTO:+0100
TZNAME:BST
DTSTART:20240331T010000
END:DAYLIGHT
BEGIN:STANDARD
TZOFFSETFROM:+0100
TZOFFSETTO:+0000
TZNAME:GMT
DTSTART:20241027T010000
END:STANDARD
BEGIN:DAYLIGHT
TZOFFSETFROM:+0000
TZOFFSETTO:+0100
TZNAME:BST
DTSTART:20250330T010000
END:DAYLIGHT
BEGIN:STANDARD
TZOFFSETFROM:+0100
TZOFFSETTO:+0000
TZNAME:GMT
DTSTART:20251026T010000
END:STANDARD
BEGIN:DAYLIGHT
TZOFFSETFROM:+0000
TZOFFSETTO:+0100
TZNAME:BST
DTSTART:20260329T010000
END:DAYLIGHT
BEGIN:STANDARD
TZOFFSETFROM:+0100
TZOFFSETTO:+0000
TZNAME:GMT
DTSTART:20261025T010000
END:STANDARD
END:VTIMEZONE
BEGIN:VEVENT
DTSTART;TZID=Europe/London:20251207T130000
DTEND;TZID=Europe/London:20251207T160000
DTSTAMP:20260421T175901
CREATED:20250205T175213Z
LAST-MODIFIED:20251126T115439Z
UID:1286-1765112400-1765123200@dorothyclivegarden.co.uk
SUMMARY:Christmas Lunch – Special Fundraising Event - FULLY BOOKED
DESCRIPTION:Enjoy a traditional 3 course Christmas lunch in a cosy festive atmosphere (see menu below) \nArrival 12.45pm for a 1.00pm serving \nFULLY BOOKED \nCost: Members – £38.00  / Non Members £46.00  (includes entry to the Garden) \nTo book – email info@dorothyclivegarden.co.uk or call 01630 647237. \nGluten Free\, Dairy Free\, Celiac\, Vegetarian and Vegan catered for please advise of any dietary requirements upon making a booking. \nNuts are used in our Kitchen \nCancellation Policy \nCancellation up to 1 week before the event a full refund will be given. \nCancellation less than 1 week before the event – we will endeavour to re-sell but if we are unable to no refund will be given. \n \n  \n 
URL:https://dorothyclivegarden.co.uk/event/christmas-lunch-special-fundraising-event/
LOCATION:Shropshire
CATEGORIES:food and drink
ATTACH;FMTTYPE=image/jpeg:https://dorothyclivegarden.co.uk/wp-content/uploads/2025/02/xmasdinner.jpg
END:VEVENT
END:VCALENDAR