BEGIN:VCALENDAR
VERSION:2.0
PRODID:-//Dorothy Clive Garden - ECPv6.15.17//NONSGML v1.0//EN
CALSCALE:GREGORIAN
METHOD:PUBLISH
X-ORIGINAL-URL:https://dorothyclivegarden.co.uk
X-WR-CALDESC:Events for Dorothy Clive Garden
REFRESH-INTERVAL;VALUE=DURATION:PT1H
X-Robots-Tag:noindex
X-PUBLISHED-TTL:PT1H
BEGIN:VTIMEZONE
TZID:Europe/London
BEGIN:DAYLIGHT
TZOFFSETFROM:+0000
TZOFFSETTO:+0100
TZNAME:BST
DTSTART:20240331T010000
END:DAYLIGHT
BEGIN:STANDARD
TZOFFSETFROM:+0100
TZOFFSETTO:+0000
TZNAME:GMT
DTSTART:20241027T010000
END:STANDARD
BEGIN:DAYLIGHT
TZOFFSETFROM:+0000
TZOFFSETTO:+0100
TZNAME:BST
DTSTART:20250330T010000
END:DAYLIGHT
BEGIN:STANDARD
TZOFFSETFROM:+0100
TZOFFSETTO:+0000
TZNAME:GMT
DTSTART:20251026T010000
END:STANDARD
BEGIN:DAYLIGHT
TZOFFSETFROM:+0000
TZOFFSETTO:+0100
TZNAME:BST
DTSTART:20260329T010000
END:DAYLIGHT
BEGIN:STANDARD
TZOFFSETFROM:+0100
TZOFFSETTO:+0000
TZNAME:GMT
DTSTART:20261025T010000
END:STANDARD
END:VTIMEZONE
BEGIN:VEVENT
DTSTART;TZID=Europe/London:20251221T120000
DTEND;TZID=Europe/London:20251221T130000
DTSTAMP:20260421T175829
CREATED:20251031T103230Z
LAST-MODIFIED:20251126T113954Z
UID:2469-1766318400-1766322000@dorothyclivegarden.co.uk
SUMMARY:Christmas Carol Service
DESCRIPTION:Join us for a Festive Carol Service with Hannah Grace Music. \nWhen: Sunday 21st December \nTime: 12.00pm to 1.00pm \nWhere: Bryan Mayer Pavilion \nCost: £5 per person \nMax 50 places. \nTickets must be booked in advance click on this link to book a place: https://www.ticketsource.co.uk/whats-on?q=carol%20service%20dorothy%20clive \nOur Tearoom will be open for lunch served 12.00pm to 2.00pm and refreshments before and after the performance. Get a FREE Mince Pie with every hot beverage purchased upon production of a Carol Service ticket.
URL:https://dorothyclivegarden.co.uk/event/christmas-carol-service/
LOCATION:Shropshire
ATTACH;FMTTYPE=image/jpeg:https://dorothyclivegarden.co.uk/wp-content/uploads/2025/02/abba-1.jpg
END:VEVENT
BEGIN:VEVENT
DTSTART;TZID=Europe/London:20251221T140000
DTEND;TZID=Europe/London:20251221T150000
DTSTAMP:20260421T175829
CREATED:20251031T104254Z
LAST-MODIFIED:20251103T111414Z
UID:2473-1766325600-1766329200@dorothyclivegarden.co.uk
SUMMARY:Christmas Carol Service
DESCRIPTION:Join us for a Festive Carol Service with Hannah Grace Music and the Dorothy Clive Garden Choir. \nWhen: Sunday 21st December \nTime: 2.00pm to 3.00pm \nWhere: Bryan Mayer Pavilion \nCost: £5 per person \nMax 50 places \nTickets must be booked in advance click on this link to book a place: https://www.ticketsource.co.uk/whats-on?q=carol%20service%20dorothy%20clive \nOur Tearoom will be open for lunch served 12.00pm to 2.00pm and refreshments before the performance. Get a FREE Mince Pie with every hot beverage purchased upon production of a ticket for the Carol Service.
URL:https://dorothyclivegarden.co.uk/event/christmas-carol-service-2/
LOCATION:Shropshire
CATEGORIES:musical
ATTACH;FMTTYPE=image/jpeg:https://dorothyclivegarden.co.uk/wp-content/uploads/2025/02/abba-1.jpg
END:VEVENT
END:VCALENDAR