BEGIN:VCALENDAR
VERSION:2.0
PRODID:-//Dorothy Clive Garden - ECPv6.15.17//NONSGML v1.0//EN
CALSCALE:GREGORIAN
METHOD:PUBLISH
X-ORIGINAL-URL:https://dorothyclivegarden.co.uk
X-WR-CALDESC:Events for Dorothy Clive Garden
REFRESH-INTERVAL;VALUE=DURATION:PT1H
X-Robots-Tag:noindex
X-PUBLISHED-TTL:PT1H
BEGIN:VTIMEZONE
TZID:Europe/London
BEGIN:DAYLIGHT
TZOFFSETFROM:+0000
TZOFFSETTO:+0100
TZNAME:BST
DTSTART:20250330T010000
END:DAYLIGHT
BEGIN:STANDARD
TZOFFSETFROM:+0100
TZOFFSETTO:+0000
TZNAME:GMT
DTSTART:20251026T010000
END:STANDARD
BEGIN:DAYLIGHT
TZOFFSETFROM:+0000
TZOFFSETTO:+0100
TZNAME:BST
DTSTART:20260329T010000
END:DAYLIGHT
BEGIN:STANDARD
TZOFFSETFROM:+0100
TZOFFSETTO:+0000
TZNAME:GMT
DTSTART:20261025T010000
END:STANDARD
BEGIN:DAYLIGHT
TZOFFSETFROM:+0000
TZOFFSETTO:+0100
TZNAME:BST
DTSTART:20270328T010000
END:DAYLIGHT
BEGIN:STANDARD
TZOFFSETFROM:+0100
TZOFFSETTO:+0000
TZNAME:GMT
DTSTART:20271031T010000
END:STANDARD
END:VTIMEZONE
BEGIN:VEVENT
DTSTART;TZID=Europe/London:20260519T100000
DTEND;TZID=Europe/London:20260519T130000
DTSTAMP:20260421T095955
CREATED:20260304T102517Z
LAST-MODIFIED:20260304T102744Z
UID:2777-1779184800-1779195600@dorothyclivegarden.co.uk
SUMMARY:Pen and Watercolour Workshop With Kate Dawes
DESCRIPTION:Spend three hours creating beautiful botanicals in pen and watercolour with Kate Dawes.  A relaxed pen & watercolour workshop.  Suitable for all abilities.\nKate will show you different techniques of pen drawing\, along with how to overlay with ‘dry’ watercolour to create beautiful botanical art.  All materials are provided.\nShe will offer support and guidance to help everyone develop their personal style\, understand composition\, colour mixing\, and achieve a more confident approach to art.\nKate will bring flowers and foliage to work from\, and we plan to go into the garden to try out pen drawing techniques and to inspire you to create A4 botanical artworks to take home with you. \nSuitable for all abilities from absolute beginners to the more experienced artist\, who would like to try a new technique and approach to art. All materials supplied. \nSmall workshop – max 12 people \nTo book go to the below link – \nhttps://katedawesstudio.com/products/pen-and-watercolour-workshop-dorothy-clive-garden-tuesday-19may-2026-3-hours \n** please note – for non-members there is a £14 garden entrance fee or £26 annual membership\, payable on the gate.  \nWhen & Where\n\nTuesday 19th May 2026\n10am – 1pm \nThe Dorothy Clive Garden\nWilloughbridge\nMarket Drayton\nShropshire\nTF9 4EU
URL:https://dorothyclivegarden.co.uk/event/pen-and-watercolour-workshop-with-kate-dawes-7/
LOCATION:Shropshire
ATTACH;FMTTYPE=image/jpeg:https://dorothyclivegarden.co.uk/wp-content/uploads/2026/03/workshops-corporate.jpg
END:VEVENT
END:VCALENDAR