BEGIN:VCALENDAR
VERSION:2.0
PRODID:-//Dorothy Clive Garden - ECPv6.15.17//NONSGML v1.0//EN
CALSCALE:GREGORIAN
METHOD:PUBLISH
X-ORIGINAL-URL:https://dorothyclivegarden.co.uk
X-WR-CALDESC:Events for Dorothy Clive Garden
REFRESH-INTERVAL;VALUE=DURATION:PT1H
X-Robots-Tag:noindex
X-PUBLISHED-TTL:PT1H
BEGIN:VTIMEZONE
TZID:Europe/London
BEGIN:DAYLIGHT
TZOFFSETFROM:+0000
TZOFFSETTO:+0100
TZNAME:BST
DTSTART:20250330T010000
END:DAYLIGHT
BEGIN:STANDARD
TZOFFSETFROM:+0100
TZOFFSETTO:+0000
TZNAME:GMT
DTSTART:20251026T010000
END:STANDARD
BEGIN:DAYLIGHT
TZOFFSETFROM:+0000
TZOFFSETTO:+0100
TZNAME:BST
DTSTART:20260329T010000
END:DAYLIGHT
BEGIN:STANDARD
TZOFFSETFROM:+0100
TZOFFSETTO:+0000
TZNAME:GMT
DTSTART:20261025T010000
END:STANDARD
BEGIN:DAYLIGHT
TZOFFSETFROM:+0000
TZOFFSETTO:+0100
TZNAME:BST
DTSTART:20270328T010000
END:DAYLIGHT
BEGIN:STANDARD
TZOFFSETFROM:+0100
TZOFFSETTO:+0000
TZNAME:GMT
DTSTART:20271031T010000
END:STANDARD
END:VTIMEZONE
BEGIN:VEVENT
DTSTART;TZID=Europe/London:20260711T180000
DTEND;TZID=Europe/London:20260711T200000
DTSTAMP:20260421T125220
CREATED:20260114T125219Z
LAST-MODIFIED:20260114T125219Z
UID:2627-1783792800-1783800000@dorothyclivegarden.co.uk
SUMMARY:Wedding Showcase Evening
DESCRIPTION:Discover Your Dream Wedding Venue at the Dorothy Clive Garden \nAre you recently engaged and searching for a truly unique\, outdoor venue to celebrate your special day? Join us on Saturday\, the 11th of July from 6pm-8pm for our Wedding Showcase Day\, where you’ll have the perfect opportunity to: Explore our beautiful ceremony points\, each offering a picturesque backdrop for your vows. Sample our delicious\, handcrafted canapés. Meet our dedicated wedding team\, who will be on hand to guide you through every detail of planning your big day. Whether you envision an intimate gathering or a grand celebration\, the Dorothy Clive Garden provides the perfect blend of natural beauty and personal charm to make your wedding day unforgettable. Save the Date and let us help you bring your wedding dreams to life.*Please note that this is a venue showcase only and there will not be any additional suppliers* \nBookings available soon!
URL:https://dorothyclivegarden.co.uk/event/wedding-showcase-evening/
LOCATION:Shropshire
ATTACH;FMTTYPE=image/jpeg:https://dorothyclivegarden.co.uk/wp-content/uploads/2026/01/13-1080x675-1.jpg
END:VEVENT
END:VCALENDAR