BEGIN:VCALENDAR
VERSION:2.0
PRODID:-//Dorothy Clive Garden - ECPv6.15.17//NONSGML v1.0//EN
CALSCALE:GREGORIAN
METHOD:PUBLISH
X-WR-CALNAME:Dorothy Clive Garden
X-ORIGINAL-URL:https://dorothyclivegarden.co.uk
X-WR-CALDESC:Events for Dorothy Clive Garden
REFRESH-INTERVAL;VALUE=DURATION:PT1H
X-Robots-Tag:noindex
X-PUBLISHED-TTL:PT1H
BEGIN:VTIMEZONE
TZID:Europe/London
BEGIN:DAYLIGHT
TZOFFSETFROM:+0000
TZOFFSETTO:+0100
TZNAME:BST
DTSTART:20250330T010000
END:DAYLIGHT
BEGIN:STANDARD
TZOFFSETFROM:+0100
TZOFFSETTO:+0000
TZNAME:GMT
DTSTART:20251026T010000
END:STANDARD
BEGIN:DAYLIGHT
TZOFFSETFROM:+0000
TZOFFSETTO:+0100
TZNAME:BST
DTSTART:20260329T010000
END:DAYLIGHT
BEGIN:STANDARD
TZOFFSETFROM:+0100
TZOFFSETTO:+0000
TZNAME:GMT
DTSTART:20261025T010000
END:STANDARD
BEGIN:DAYLIGHT
TZOFFSETFROM:+0000
TZOFFSETTO:+0100
TZNAME:BST
DTSTART:20270328T010000
END:DAYLIGHT
BEGIN:STANDARD
TZOFFSETFROM:+0100
TZOFFSETTO:+0000
TZNAME:GMT
DTSTART:20271031T010000
END:STANDARD
END:VTIMEZONE
BEGIN:VEVENT
DTSTART;TZID=Europe/London:20260718T183000
DTEND;TZID=Europe/London:20260718T203000
DTSTAMP:20260421T125757
CREATED:20260319T130119Z
LAST-MODIFIED:20260320T112037Z
UID:2823-1784399400-1784406600@dorothyclivegarden.co.uk
SUMMARY:A Midsummer Night’s Dream - Folksy Theatre
DESCRIPTION:Love\, laughter\, and a little bit of lunacy — enter a world where fairies meddle\, lovers quarrel\, and magic runs wild!\nThis summer\, join us for a breath taking open-air performance of William Shakespeare’s beloved comedy\, \nA Midsummer Night’s Dream. \nIn the heart of an enchanted forest\, four young lovers flee the constraints of society and stumble into a realm ruled by mischievous fairies\, feuding royalty\, and a troupe of would-be actors with more enthusiasm than talent. What follows is a wild night of mistaken identities\, magical transformations\, and love gone deliciously wrong — enjoy Shakespeare’s dazzling verse and Folksy’s twist of live music\, audience interaction and impressive multi-rolling! \nBring along your picnics & folding chairs!\nTickets are non refundable\nShow goes on whatever the weather\, so come prepared! \nhttps://ticketstripe.com/events/6868108745075111 \n* Entry to the Garden from 5.30pm.*
URL:https://dorothyclivegarden.co.uk/event/a-midsummer-nights-dream-folksy-theatre/
LOCATION:Shropshire
ATTACH;FMTTYPE=image/jpeg:https://dorothyclivegarden.co.uk/wp-content/uploads/2026/03/4635023720-1-800x468-1.jpg
END:VEVENT
END:VCALENDAR