BEGIN:VCALENDAR
VERSION:2.0
PRODID:-//Dorothy Clive Garden - ECPv6.15.17//NONSGML v1.0//EN
CALSCALE:GREGORIAN
METHOD:PUBLISH
X-WR-CALNAME:Dorothy Clive Garden
X-ORIGINAL-URL:https://dorothyclivegarden.co.uk
X-WR-CALDESC:Events for Dorothy Clive Garden
REFRESH-INTERVAL;VALUE=DURATION:PT1H
X-Robots-Tag:noindex
X-PUBLISHED-TTL:PT1H
BEGIN:VTIMEZONE
TZID:Europe/London
BEGIN:DAYLIGHT
TZOFFSETFROM:+0000
TZOFFSETTO:+0100
TZNAME:BST
DTSTART:20250330T010000
END:DAYLIGHT
BEGIN:STANDARD
TZOFFSETFROM:+0100
TZOFFSETTO:+0000
TZNAME:GMT
DTSTART:20251026T010000
END:STANDARD
BEGIN:DAYLIGHT
TZOFFSETFROM:+0000
TZOFFSETTO:+0100
TZNAME:BST
DTSTART:20260329T010000
END:DAYLIGHT
BEGIN:STANDARD
TZOFFSETFROM:+0100
TZOFFSETTO:+0000
TZNAME:GMT
DTSTART:20261025T010000
END:STANDARD
BEGIN:DAYLIGHT
TZOFFSETFROM:+0000
TZOFFSETTO:+0100
TZNAME:BST
DTSTART:20270328T010000
END:DAYLIGHT
BEGIN:STANDARD
TZOFFSETFROM:+0100
TZOFFSETTO:+0000
TZNAME:GMT
DTSTART:20271031T010000
END:STANDARD
END:VTIMEZONE
BEGIN:VEVENT
DTSTART;TZID=Europe/London:20260818T100000
DTEND;TZID=Europe/London:20260820T120000
DTSTAMP:20260421T171037
CREATED:20260320T135929Z
LAST-MODIFIED:20260320T140021Z
UID:2841-1787047200-1787227200@dorothyclivegarden.co.uk
SUMMARY:Children's Music Club
DESCRIPTION:Children are invited to join us in the Summer Holidays for three creative mornings of music-making in the beautiful surroundings of Dorothy Clive Garden.\nThis relaxed and fun-filled club will give young musicians the chance to sing together\, play instruments\, take part in musical games\, and create imaginative soundscapes inspired by the garden environment. Children will explore rhythm\, sound and creativity while working together in a small\, supportive group. Children do not need any previous experience or abilities in music.\nThe sessions will be led by our Education Officer and resident musician Hannah Grace\, who will guide the group through a range of fun musical activities designed to build confidence and encourage creativity.\nThe club runs across three mornings from 10am–12pm\, giving children time to develop ideas and make music together over the course of the week.\n\nSuitable for ages: 8–11\nGroup size: Maximum 10 children\nDates: 18th August\, 19th August\, 20th August\nTimes: 10am – 12pm\n\nCost: £30 for the three days. Entry to the garden is added onto this price.\nPlease note: Children must be accompanied by an adult for the duration of the sessions.
URL:https://dorothyclivegarden.co.uk/event/childrens-music-club/
LOCATION:Shropshire
ATTACH;FMTTYPE=image/jpeg:https://dorothyclivegarden.co.uk/wp-content/uploads/2026/03/Child-instruments-outside-scaled-e1654595594820-768x1003-1.jpg
END:VEVENT
END:VCALENDAR