BEGIN:VCALENDAR
VERSION:2.0
PRODID:-//Dorothy Clive Garden - ECPv6.15.17//NONSGML v1.0//EN
CALSCALE:GREGORIAN
METHOD:PUBLISH
X-WR-CALNAME:Dorothy Clive Garden
X-ORIGINAL-URL:https://dorothyclivegarden.co.uk
X-WR-CALDESC:Events for Dorothy Clive Garden
REFRESH-INTERVAL;VALUE=DURATION:PT1H
X-Robots-Tag:noindex
X-PUBLISHED-TTL:PT1H
BEGIN:VTIMEZONE
TZID:Europe/London
BEGIN:DAYLIGHT
TZOFFSETFROM:+0000
TZOFFSETTO:+0100
TZNAME:BST
DTSTART:20250330T010000
END:DAYLIGHT
BEGIN:STANDARD
TZOFFSETFROM:+0100
TZOFFSETTO:+0000
TZNAME:GMT
DTSTART:20251026T010000
END:STANDARD
BEGIN:DAYLIGHT
TZOFFSETFROM:+0000
TZOFFSETTO:+0100
TZNAME:BST
DTSTART:20260329T010000
END:DAYLIGHT
BEGIN:STANDARD
TZOFFSETFROM:+0100
TZOFFSETTO:+0000
TZNAME:GMT
DTSTART:20261025T010000
END:STANDARD
BEGIN:DAYLIGHT
TZOFFSETFROM:+0000
TZOFFSETTO:+0100
TZNAME:BST
DTSTART:20270328T010000
END:DAYLIGHT
BEGIN:STANDARD
TZOFFSETFROM:+0100
TZOFFSETTO:+0000
TZNAME:GMT
DTSTART:20271031T010000
END:STANDARD
END:VTIMEZONE
BEGIN:VEVENT
DTSTART;TZID=Europe/London:20260830T100000
DTEND;TZID=Europe/London:20260830T170000
DTSTAMP:20260421T143526
CREATED:20260114T130214Z
LAST-MODIFIED:20260114T130214Z
UID:2633-1788084000-1788109200@dorothyclivegarden.co.uk
SUMMARY:Plant Hunters Fair – Special Fundraising Event
DESCRIPTION:Location: Dorothy Clive Garden \nJoin us for our popular Plant Hunters’ Fair\, featuring a wonderful selection of stalls from top specialist and award-winning nurseries. Choose from thousands of plants and be inspired by RHS medal winners and National Collection holders\, alongside knowledgeable plants-people\, designers\, and artisans. \n\nAdmission (Special Event Discounted)\nAdults: £5.00 \nChildren (5–17): £2.00 \nMembers: FREE \nChildren under 5: FREE \n\nTearoom\nOur garden Tearoom will be open throughout the event\, serving delicious homemade food and refreshments. \nPlease note we will be on a restricted menu. \n\nAbout Dorothy Clive Garden\nThe Dorothy Clive Garden is a charitable garden trust\, established in 1958 by Colonel Harry Clive in memory of his wife\, Dorothy.The garden exists for the benefit and enjoyment of the general public and is continually maintained and developed in her memory. \n\nGarden Opening Times (General)\nMain Season (1 March – 31 October):Open daily\, 10:00am – 5:00pm \nWinter Season (November – February):Open Thursday to Sunday\, 10:00am – 5:00pm \nStandard Admission (outside special events): \nAdults: £14.00 \nChildren (5–17): £2.00 \nChildren under 4 & Members: FREE \n\n 
URL:https://dorothyclivegarden.co.uk/event/plant-hunters-fair-special-fundraising-event-7/
LOCATION:Shropshire
ATTACH;FMTTYPE=image/jpeg:https://dorothyclivegarden.co.uk/wp-content/uploads/2026/01/summer-3.jpg
END:VEVENT
END:VCALENDAR