BEGIN:VCALENDAR
VERSION:2.0
PRODID:-//Dorothy Clive Garden - ECPv6.15.17//NONSGML v1.0//EN
CALSCALE:GREGORIAN
METHOD:PUBLISH
X-ORIGINAL-URL:https://dorothyclivegarden.co.uk
X-WR-CALDESC:Events for Dorothy Clive Garden
REFRESH-INTERVAL;VALUE=DURATION:PT1H
X-Robots-Tag:noindex
X-PUBLISHED-TTL:PT1H
BEGIN:VTIMEZONE
TZID:Europe/London
BEGIN:DAYLIGHT
TZOFFSETFROM:+0000
TZOFFSETTO:+0100
TZNAME:BST
DTSTART:20250330T010000
END:DAYLIGHT
BEGIN:STANDARD
TZOFFSETFROM:+0100
TZOFFSETTO:+0000
TZNAME:GMT
DTSTART:20251026T010000
END:STANDARD
BEGIN:DAYLIGHT
TZOFFSETFROM:+0000
TZOFFSETTO:+0100
TZNAME:BST
DTSTART:20260329T010000
END:DAYLIGHT
BEGIN:STANDARD
TZOFFSETFROM:+0100
TZOFFSETTO:+0000
TZNAME:GMT
DTSTART:20261025T010000
END:STANDARD
BEGIN:DAYLIGHT
TZOFFSETFROM:+0000
TZOFFSETTO:+0100
TZNAME:BST
DTSTART:20270328T010000
END:DAYLIGHT
BEGIN:STANDARD
TZOFFSETFROM:+0100
TZOFFSETTO:+0000
TZNAME:GMT
DTSTART:20271031T010000
END:STANDARD
END:VTIMEZONE
BEGIN:VEVENT
DTSTART;TZID=Europe/London:20261129T100000
DTEND;TZID=Europe/London:20261129T163000
DTSTAMP:20260422T025230
CREATED:20260114T131119Z
LAST-MODIFIED:20260114T131140Z
UID:2638-1795946400-1795969800@dorothyclivegarden.co.uk
SUMMARY:Christmas Craft Fair - Special Fundraising Event
DESCRIPTION:🎄 Christmas Craft Fair at the Dorothy Clive Garden 🎄 \nJoin us on Saturday 29th November for a festive Christmas Craft Fair set in the beautiful surroundings of the garden. Browse a wonderful selection of handmade gifts\, crafts\, and seasonal treats—perfect for Christmas shopping. \nEntry prices:• Adults: £8.00• Children: £2.00 \n🎟️ Tickets to follow soon \nIf you are a maker or artisan and would like to book a stall\, please email:📧 info@dorothyclivegarden.co.uk \nWe look forward to welcoming you for a festive day out! ✨
URL:https://dorothyclivegarden.co.uk/event/christmas-craft-fair-special-fundraising-event/
LOCATION:Shropshire
ATTACH;FMTTYPE=image/png:https://dorothyclivegarden.co.uk/wp-content/uploads/2026/01/Copy-of-Christmas-Fair-Trail.png
END:VEVENT
END:VCALENDAR