BEGIN:VCALENDAR
VERSION:2.0
PRODID:-//Dorothy Clive Garden - ECPv6.15.17//NONSGML v1.0//EN
CALSCALE:GREGORIAN
METHOD:PUBLISH
X-ORIGINAL-URL:https://dorothyclivegarden.co.uk
X-WR-CALDESC:Events for Dorothy Clive Garden
REFRESH-INTERVAL;VALUE=DURATION:PT1H
X-Robots-Tag:noindex
X-PUBLISHED-TTL:PT1H
BEGIN:VTIMEZONE
TZID:Europe/London
BEGIN:DAYLIGHT
TZOFFSETFROM:+0000
TZOFFSETTO:+0100
TZNAME:BST
DTSTART:20240331T010000
END:DAYLIGHT
BEGIN:STANDARD
TZOFFSETFROM:+0100
TZOFFSETTO:+0000
TZNAME:GMT
DTSTART:20241027T010000
END:STANDARD
BEGIN:DAYLIGHT
TZOFFSETFROM:+0000
TZOFFSETTO:+0100
TZNAME:BST
DTSTART:20250330T010000
END:DAYLIGHT
BEGIN:STANDARD
TZOFFSETFROM:+0100
TZOFFSETTO:+0000
TZNAME:GMT
DTSTART:20251026T010000
END:STANDARD
BEGIN:DAYLIGHT
TZOFFSETFROM:+0000
TZOFFSETTO:+0100
TZNAME:BST
DTSTART:20260329T010000
END:DAYLIGHT
BEGIN:STANDARD
TZOFFSETFROM:+0100
TZOFFSETTO:+0000
TZNAME:GMT
DTSTART:20261025T010000
END:STANDARD
END:VTIMEZONE
BEGIN:VTIMEZONE
TZID:UTC
BEGIN:STANDARD
TZOFFSETFROM:+0000
TZOFFSETTO:+0000
TZNAME:UTC
DTSTART:20240101T000000
END:STANDARD
END:VTIMEZONE
BEGIN:VEVENT
DTSTART;TZID=Europe/London:20250725T100000
DTEND;TZID=Europe/London:20250725T160000
DTSTAMP:20260420T001202
CREATED:20250702T103033Z
LAST-MODIFIED:20250702T103033Z
UID:2229-1753437600-1753459200@dorothyclivegarden.co.uk
SUMMARY:World's Smallest Sheep Visit
DESCRIPTION:Ouessant Sheep Visiting the Garden – Included with Standard Admission \nWe’re pleased to welcome a unique addition to the garden – a visiting group of Ouessant sheep\, the smallest breed of sheep in the world. Originally from the island of Ouessant off the coast of Brittany\, these rare and distinctive animals are known for their small size and quiet nature. \nFor a limited time\, visitors will have the opportunity to see these fascinating sheep up close as part of their day at the garden. There’s no extra charge to see them – simply pay our usual admission and enjoy everything the garden has to offer\, including this special visit. \nWhether you’re interested in the heritage breed\, visiting with family\, or just looking for something a little different\, the Ouessant sheep are well worth a look. \nWe look forward to seeing you soon. \nAdmission: \n\nAdults: £13.00\nChildren aged 5-17: £2.00\nChildren (Under 4): Free\nMembers: Free
URL:https://dorothyclivegarden.co.uk/event/worlds-smallest-sheep-visit-2/
LOCATION:Dorothy Clive Garden\, Willoughbridge\, Market Drayton\, Shropshire\, TF9 4EU\, United Kingdom
CATEGORIES:childrens event
ATTACH;FMTTYPE=image/jpeg:https://dorothyclivegarden.co.uk/wp-content/uploads/2025/07/482089010_667056839317709_2660890689233839640_n.jpg
END:VEVENT
BEGIN:VEVENT
DTSTART;TZID=Europe/London:20250722T100000
DTEND;TZID=Europe/London:20250722T160000
DTSTAMP:20260420T001202
CREATED:20250702T102413Z
LAST-MODIFIED:20250702T102913Z
UID:2225-1753178400-1753200000@dorothyclivegarden.co.uk
SUMMARY:World's Smallest Sheep Visit
DESCRIPTION:Ouessant Sheep Visiting the Garden – Included with Standard Admission \nWe’re pleased to welcome a unique addition to the garden – a visiting group of Ouessant sheep\, the smallest breed of sheep in the world. Originally from the island of Ouessant off the coast of Brittany\, these rare and distinctive animals are known for their small size and quiet nature. \nFor a limited time\, visitors will have the opportunity to see these fascinating sheep up close as part of their day at the garden. There’s no extra charge to see them – simply pay our usual admission and enjoy everything the garden has to offer\, including this special visit. \nWhether you’re interested in the heritage breed\, visiting with family\, or just looking for something a little different\, the Ouessant sheep are well worth a look. \nWe look forward to seeing you soon. \nAdmission: \n\nAdults: £13.00\nChildren aged 5-17: £2.00\nChildren (Under 4): Free\nMembers: Free
URL:https://dorothyclivegarden.co.uk/event/worlds-smallest-sheep-visit/
LOCATION:Dorothy Clive Garden\, Willoughbridge\, Market Drayton\, Shropshire\, TF9 4EU\, United Kingdom
CATEGORIES:childrens event
ATTACH;FMTTYPE=image/jpeg:https://dorothyclivegarden.co.uk/wp-content/uploads/2025/07/482089010_667056839317709_2660890689233839640_n.jpg
END:VEVENT
BEGIN:VEVENT
DTSTART;TZID=UTC:20250412T100000
DTEND;TZID=UTC:20250427T160000
DTSTAMP:20260420T001202
CREATED:20250407T154641Z
LAST-MODIFIED:20250407T155244Z
UID:1868-1744452000-1745769600@dorothyclivegarden.co.uk
SUMMARY:Easter Egg Hunt
DESCRIPTION:Join us for a delightful Easter Egg Hunt at the Dorothy Clive Gardens!\nDate: Saturday 12th April\, 2025. 10:00 am – Sunday 27th April\, 2025. 4:00 pm \nTime: 10am to 4pm daily \nCost: This trail is free but our below entry fee applies- \nAdults £13.00\nChild 5-17 £2.00\nChild 0-4 FREE\nMembers and under 18s with members – FREE \nJoin us for a delightful Easter Egg Hunt at the Dorothy Clive Gardens\, running from April 12th to 27th\, every day from 10:00 AM to 3:30 PM. This family-friendly event invites guests of all ages to explore the stunning gardens in search of hidden Easter eggs. The hunt will begin and end in the Gift Room\, where participants will receive all the necessary details to embark on their egg-finding adventure. \nStroll through the beautifully landscaped gardens\, enjoy the scenic surroundings\, and challenge yourself to find as many eggs as you can! Whether you’re a first-time visitor or a regular\, there’s always something new to discover. With  eggs hidden among flowers\, trees\, and charming garden features\, you’re sure to have a fantastic time. \nDon’t forget to visit the Gift Room at the end for a special treat. We look forward to seeing you there for an EGG-cellent Easter experience!
URL:https://dorothyclivegarden.co.uk/event/easter-egg-hunt/
LOCATION:Shropshire
CATEGORIES:childrens event
ATTACH;FMTTYPE=image/jpeg:https://dorothyclivegarden.co.uk/wp-content/uploads/2025/04/easter3.jpg
END:VEVENT
END:VCALENDAR