BEGIN:VCALENDAR
VERSION:2.0
PRODID:-//Dorothy Clive Garden - ECPv6.15.17//NONSGML v1.0//EN
CALSCALE:GREGORIAN
METHOD:PUBLISH
X-ORIGINAL-URL:https://dorothyclivegarden.co.uk
X-WR-CALDESC:Events for Dorothy Clive Garden
REFRESH-INTERVAL;VALUE=DURATION:PT1H
X-Robots-Tag:noindex
X-PUBLISHED-TTL:PT1H
BEGIN:VTIMEZONE
TZID:Europe/London
BEGIN:DAYLIGHT
TZOFFSETFROM:+0000
TZOFFSETTO:+0100
TZNAME:BST
DTSTART:20250330T010000
END:DAYLIGHT
BEGIN:STANDARD
TZOFFSETFROM:+0100
TZOFFSETTO:+0000
TZNAME:GMT
DTSTART:20251026T010000
END:STANDARD
BEGIN:DAYLIGHT
TZOFFSETFROM:+0000
TZOFFSETTO:+0100
TZNAME:BST
DTSTART:20260329T010000
END:DAYLIGHT
BEGIN:STANDARD
TZOFFSETFROM:+0100
TZOFFSETTO:+0000
TZNAME:GMT
DTSTART:20261025T010000
END:STANDARD
BEGIN:DAYLIGHT
TZOFFSETFROM:+0000
TZOFFSETTO:+0100
TZNAME:BST
DTSTART:20270328T010000
END:DAYLIGHT
BEGIN:STANDARD
TZOFFSETFROM:+0100
TZOFFSETTO:+0000
TZNAME:GMT
DTSTART:20271031T010000
END:STANDARD
END:VTIMEZONE
BEGIN:VEVENT
DTSTART;TZID=Europe/London:20260802T100000
DTEND;TZID=Europe/London:20260802T170000
DTSTAMP:20260420T040555
CREATED:20260114T125357Z
LAST-MODIFIED:20260114T130032Z
UID:2631-1785664800-1785690000@dorothyclivegarden.co.uk
SUMMARY:Dog Fest and Vintage and Classic Car Display
DESCRIPTION:This year we are combining our Dog Fest with a display of Vintage and Classic Cars. Music will be playing throughout the day with DJ Dave Ball. \nJoin us for a tail-wagging good time at the Dorothy Clive Garden Dog Fest 2026! \nThis is a fun-filled day dedicated to our furry friends and their families. Whether you have a dog or just love them\, this event promises to be a delight for all. \nEvent Highlights: \n\nDoggie Ice Cream: Keep your pups cool with refreshing doggie ice cream\, also available in the tearoom. Perfect for a hot summer day!\nSeries of Stalls: Explore a variety of stalls featuring dog-related products\, services\, and more. From unique pet accessories to gourmet dog treats\, there’s something for every pooch.\nDog Competition- 2PM START: Enter your dog into our exciting competition! Categories will include.\n\n\n-Best trick\n-Prettiest bitch\n-Prettiest bitch – puppy\n-Handsome hound\n-Handsome hound- puppy\n-Best junior handler\n-Best heelwork\n-Happiest pair\n-Waggiest Tail\n-Final\n\nBring your family\, friends and of course your dogs for a fantastic day out in the beautiful surroundings of the Dorothy Clive Garden. We look forward to seeing you and celebrating our beloved canine companions together! \nThe dog event will start at 2 pm\, please ensure all entries have been registered beforehand. \nAlso\, enjoy the display of Vintage and Classic Cars on the paddock. \nTake a stroll around the Garden\, then enjoy a drink\, a bite to eat or try one of our freshly baked scones with jam and cream whilst relaxing on the Tearoom lawn. \nOur Tearoom will be open serving a lunch menu available between 12pm and 2.30pm. Cakes and snacks will also be available throughout the day. \nAdmission: \n\nMembers: Free\nAdults: £14.00\nChildren aged 5-17: £2.00\nChildren (Under 4): Free\nDogs: Free
URL:https://dorothyclivegarden.co.uk/event/dog-fest-and-vintage-and-classic-car-display-2/
CATEGORIES:fair
ATTACH;FMTTYPE=image/jpeg:https://dorothyclivegarden.co.uk/wp-content/uploads/2025/02/19.jpg
END:VEVENT
END:VCALENDAR