BEGIN:VCALENDAR
VERSION:2.0
PRODID:-//Dorothy Clive Garden - ECPv6.15.17//NONSGML v1.0//EN
CALSCALE:GREGORIAN
METHOD:PUBLISH
X-WR-CALNAME:Dorothy Clive Garden
X-ORIGINAL-URL:https://dorothyclivegarden.co.uk
X-WR-CALDESC:Events for Dorothy Clive Garden
REFRESH-INTERVAL;VALUE=DURATION:PT1H
X-Robots-Tag:noindex
X-PUBLISHED-TTL:PT1H
BEGIN:VTIMEZONE
TZID:Europe/London
BEGIN:DAYLIGHT
TZOFFSETFROM:+0000
TZOFFSETTO:+0100
TZNAME:BST
DTSTART:20240331T010000
END:DAYLIGHT
BEGIN:STANDARD
TZOFFSETFROM:+0100
TZOFFSETTO:+0000
TZNAME:GMT
DTSTART:20241027T010000
END:STANDARD
BEGIN:DAYLIGHT
TZOFFSETFROM:+0000
TZOFFSETTO:+0100
TZNAME:BST
DTSTART:20250330T010000
END:DAYLIGHT
BEGIN:STANDARD
TZOFFSETFROM:+0100
TZOFFSETTO:+0000
TZNAME:GMT
DTSTART:20251026T010000
END:STANDARD
BEGIN:DAYLIGHT
TZOFFSETFROM:+0000
TZOFFSETTO:+0100
TZNAME:BST
DTSTART:20260329T010000
END:DAYLIGHT
BEGIN:STANDARD
TZOFFSETFROM:+0100
TZOFFSETTO:+0000
TZNAME:GMT
DTSTART:20261025T010000
END:STANDARD
END:VTIMEZONE
BEGIN:VEVENT
DTSTART;TZID=Europe/London:20251025T100000
DTEND;TZID=Europe/London:20251102T153000
DTSTAMP:20260421T175830
CREATED:20250929T130443Z
LAST-MODIFIED:20250929T130917Z
UID:2434-1761386400-1762097400@dorothyclivegarden.co.uk
SUMMARY:Pumpkin Trail
DESCRIPTION:🎃🍂 Pumpkin Trail – 25th October to 2nd November 2025 🍂🎃 \nThis autumn\, join us for a Spooktacular Pumpkin Trail running from Saturday 25th October to Sunday 2nd November 2025! \n Explore a trail filled with pumpkins and enjoy the magic of the season with family and friends. \n Perfect for all ages – spot the pumpkins\, solve fun clues along the way\, and soak up the Halloween atmosphere \n A fun-filled half-term activity that’s sure to get everyone in the autumn spirit!
URL:https://dorothyclivegarden.co.uk/event/pumpkin-trail/
LOCATION:Shropshire
END:VEVENT
BEGIN:VEVENT
DTSTART;TZID=Europe/London:20251102T110000
DTEND;TZID=Europe/London:20251102T120000
DTSTAMP:20260421T175830
CREATED:20250618T102100Z
LAST-MODIFIED:20250826T084701Z
UID:2198-1762081200-1762084800@dorothyclivegarden.co.uk
SUMMARY:Tree Walk with Dr Peter Thomas FLS
DESCRIPTION:Join Dr Peter Thomas for a guided tour of the trees at the Dorothy Clive Garden. Peter is a Reader Emeritus in Plant Ecology at Keele University and has written a number of publications. \nThe guided tour will begin at 11AM \nCost: £5 per person \nMax 25 \nTickets can be booked via the following link. https://www.ticketsource.co.uk/whats-on?q=TREE%20WALK%20DOROTHY%20CLIVE%20GARDEN%20DR%20
URL:https://dorothyclivegarden.co.uk/event/tree-walk-with-dr-peter-thomas-fls-2/
LOCATION:Shropshire
CATEGORIES:talk
ATTACH;FMTTYPE=image/jpeg:https://dorothyclivegarden.co.uk/wp-content/uploads/2025/06/thomas-peter.jpg
END:VEVENT
BEGIN:VEVENT
DTSTART;TZID=Europe/London:20251120T100000
DTEND;TZID=Europe/London:20251120T130000
DTSTAMP:20260421T175830
CREATED:20251020T102152Z
LAST-MODIFIED:20251020T102152Z
UID:2454-1763632800-1763643600@dorothyclivegarden.co.uk
SUMMARY:Christmas Botanical Pen and Watercolour Workshop with Kate Dawes
DESCRIPTION:This relaxed three-hour winter-themed pen and watercolour workshop is suitable for all abilities. \nKate will be showing different pen drawing techniques and how to overlay with ‘dry’ watercolour to enhance your artwork. \nYou will create an A4 botanical artwork using seasonal foliage – berries\, holly\, ivy and foliage (as well as flowers) as inspiration. This could be used for your own Christmas / Seasons Greetings card design. \nThe session will start with Kate showing you different pen drawing styles. She will help guide you to find a pen technique that suits you. \nOnce you have done some pen drawing\, Kate will help you find the best watercolour technique to complement your pen work. \nKate will offer individual support and guidance throughout to help everyone develop their personal style\, understand composition\, colour mixing\, and achieve a more confident approach to art. \nSuitable for all abilities from beginners to the more experienced artist. All materials supplied. Maximum of 12 people on the workshop. \nTea\, coffee\, biscuits and mince pies included. \n£47.50 per person (please note an £8 garden entry charge is applicable) \nTo book a place click on the following link: https://katedawesstudio.com/products/3-hr-pen-and-watercolour-workshop-dorothy-clive-garden-20-november-2025
URL:https://dorothyclivegarden.co.uk/event/christmas-botanical-pen-and-watercolour-workshop-with-kate-dawes/
LOCATION:Shropshire
CATEGORIES:workshop
ATTACH;FMTTYPE=image/jpeg:https://dorothyclivegarden.co.uk/wp-content/uploads/2025/10/katedawes-winterworkshoppic5.jpg
END:VEVENT
END:VCALENDAR